BEGIN:VCALENDAR
VERSION:2.0
PRODID:-//Facilitated Methods - ECPv6.15.20//NONSGML v1.0//EN
CALSCALE:GREGORIAN
METHOD:PUBLISH
X-WR-CALNAME:Facilitated Methods
X-ORIGINAL-URL:https://facilitatedmethods.com
X-WR-CALDESC:Events for Facilitated Methods
REFRESH-INTERVAL;VALUE=DURATION:PT1H
X-Robots-Tag:noindex
X-PUBLISHED-TTL:PT1H
BEGIN:VTIMEZONE
TZID:America/Los_Angeles
BEGIN:DAYLIGHT
TZOFFSETFROM:-0800
TZOFFSETTO:-0700
TZNAME:PDT
DTSTART:20250309T100000
END:DAYLIGHT
BEGIN:STANDARD
TZOFFSETFROM:-0700
TZOFFSETTO:-0800
TZNAME:PST
DTSTART:20251102T090000
END:STANDARD
BEGIN:DAYLIGHT
TZOFFSETFROM:-0800
TZOFFSETTO:-0700
TZNAME:PDT
DTSTART:20260308T100000
END:DAYLIGHT
BEGIN:STANDARD
TZOFFSETFROM:-0700
TZOFFSETTO:-0800
TZNAME:PST
DTSTART:20261101T090000
END:STANDARD
BEGIN:DAYLIGHT
TZOFFSETFROM:-0800
TZOFFSETTO:-0700
TZNAME:PDT
DTSTART:20270314T100000
END:DAYLIGHT
BEGIN:STANDARD
TZOFFSETFROM:-0700
TZOFFSETTO:-0800
TZNAME:PST
DTSTART:20271107T090000
END:STANDARD
END:VTIMEZONE
BEGIN:VTIMEZONE
TZID:UTC
BEGIN:STANDARD
TZOFFSETFROM:+0000
TZOFFSETTO:+0000
TZNAME:UTC
DTSTART:20250101T000000
END:STANDARD
END:VTIMEZONE
BEGIN:VEVENT
DTSTART;VALUE=DATE:20260801
DTEND;VALUE=DATE:20260802
DTSTAMP:20260420T141416
CREATED:20251203T163832Z
LAST-MODIFIED:20251203T163832Z
UID:10002250-1785542400-1785628799@facilitatedmethods.com
SUMMARY:CAPM July 11\,18\,25\, Aug 1 2026
DESCRIPTION:CAPM® Certification Exam Prep Course\nJuly 11\,18\,25\, Aug 1 2026\n  \n Click here to register  – Registration closes July 11\, 2026 \nCourse Overview:\nThis comprehensive prep course is designed to equip aspiring project professionals with the foundational knowledge and practical tools needed to succeed in today’s dynamic project environments. Participants will deepen their understanding of current project management principles and terminology while gaining hands-on exposure to adaptive\, predictive\, and hybrid approaches.Whether you’re looking to enhance your current role or launch a new career\, earning the CAPM® certification highlights your commitment to excellence and positions you for entry and associate-level opportunities—such as project coordinator or junior project manager. \n Certification Scope:\nThe CAPM® exam evaluates knowledge across Project Management Fundamentals and Core Concepts\, including: \n\nPredictive\, plan-based methodologies\nAdaptive (Agile) frameworks\nBusiness Analysis principles\n\nThis course fulfills the 23 hours of professional instruction required by PMI® to sit for the CAPM® exam. \n Important Note:\nThe CAPM® exam is based on the 2023 Exam Content Outline and includes multiple reference sources such as: \n\nPMBOK® Guide (6th and 7th Editions)\nAgile Practice Guide\nBusiness Analysis for Practitioners: A Practice Guide\n\nFollowing 36 months of project leadership experience\, CAPM® holders can pursue the PMP® certification to further advance their careers. \nCAPM Course Content\nCAPM Certification and Introduction\nProject Management Fundamentals\n               Foundation Concepts\nProject Management Challenges\nOrganizational Project Management (OPM)\nProject Environment\nRoles and Responsibilities\n               Stakeholders\n               Project Sponsor\n               Project Manager\n               Leadership\n               Motivational Theories/Approaches\n               Project Team\nDevelopment Approaches and Life Cycles\n               Project Development Approaches\n               Predictive Approach\n               Adaptive Approach\n               Hybrid Approach\n               Life Cycles\n               Predictive Life Cycle\n               Adaptive Life Cycle\n               Project Management Processes\n               Process Groups\nBusiness Analysis Frameworks\n               Business Analysis\n               Business Analyst (BA) Role\n               Requirements\n               Project Approach Influence\n               Stakeholder Collaboration\nStart the Project\n               Needs Assessment\n               Business Documents\n               Project Initiation\n               Project Charter\n               Project Stakeholders\n               Stakeholder Communication\n               Tailor the Project Approach\nPredictive\, Plan-Based Project Methodology\n               Project Management Plan\n               Project Management Plan – Scope\n               Project Management Plan – Schedule\n               Project Management Plan – Resources\n               Estimating Techniques – Time and Cost\n               Project Management Plan – Costs and Budget\n               Project Management Plan – Quality\n               Project Management Plan – Uncertainty and Risk\n               Project Integration\nAdaptive Approaches\n               Adaptive Approaches or Frameworks\n               Adaptive Fundamentals\n               Adaptive Team Resources\n               Adaptive Planning\n               Agile Requirements\n               Adaptive Prioritizing and Estimating\nProject Work and Delivery\n               Engaging Stakeholders\n               Monitoring and Controlling Processes\n               Detecting and Solving Problems\n               Measuring Performance\n               Project Controls and Forecasting\n               Validating Requirements\n               Transitioning and Closing
URL:https://facilitatedmethods.com/event/capm-july-111825-aug-1-2026-4/
LOCATION:Virtual Instructor Led
CATEGORIES:CAPM
END:VEVENT
BEGIN:VEVENT
DTSTART;VALUE=DATE:20260808
DTEND;VALUE=DATE:20260809
DTSTAMP:20260420T141416
CREATED:20251202T223433Z
LAST-MODIFIED:20251215T220333Z
UID:10002223-1786147200-1786233599@facilitatedmethods.com
SUMMARY:PMP Aug 8\,15\,22\,29 2026
DESCRIPTION:This course is held over four Saturdays:  August 8\, 15\, 22\, 29\, 2026 \n 9:00 am to 5:00 pm Pacific Time\n \nScroll down to register\n \nThis PMI®-authorized course provides experienced project managers with the knowledge of concepts\, terminology and techniques that are addressed on the PMP® exam from Project Management Institute (PMI®). In addition to providing the 35 hours of specific instruction required to sit for the Project Management Professional (PMP) exam from PMI\, the course also provides access to online flash cards and test banks with questions from PMI. The current PMP exam is NOT based on the 7th edition of the PMBOK– but rather on the 2021 Exam Content Outline and multiple references including the Process Group: Practice Guide\, and the Agile Practice Guide from PMI. We are a Premier ATP and authorized PMP instructors and contributors to the 6th and 7th edition of the PMBOK\, in addition to other PMI publications. We were key participants in the update of the June 2021 release of the PMP course materials and practice questions. \nCourse Format: Lecture with discussions and sample exams \nThis PMI®-authorized course provides experienced project managers with the knowledge of concepts\, terminology and techniques that are addressed on the PMP® exam from Project Management Institute (PMI®). In addition to providing the 35 hours of specific instruction required to sit for the Project Management Professional (PMP) exam from PMI\, the course also provides access to online flash cards and test banks with questions from PMI. The current PMP exam is NOT based on the 7th edition of the PMBOK– but rather on the 2021 Exam Content Outline and multiple references including the Process Group: Practice Guide\, and the Agile Practice Guide from PMI. We are a Premier ATP and authorized PMP instructors and contributors to the 6th and 7th edition of the PMBOK\, in addition to other PMI publications. We were key participants in the update of the June 2021 release of the PMP course materials and practice questions. \nCourse Format: Lecture with discussions\, sample exams and 7 test banks \nProject Management Professional (PMP)® Exam Prep Course Agenda \nIntroduction \nLesson 1 Foundation \nLesson 2 Setting the Foundation \n\nDevelop a Common Vision (ECO 1.1)\nEngage Your Stakeholders (ECO 1.4)\nAlign Stakeholder Expectations (ECO 1.5)\nDefine and Establish Governance (ECO 3.1)\n\n Lesson 3 Defining Project Scope\, Value\, and Success Criteria \n\nDeveloping and managing project scope (ECO 2.2)\nEnsure value-based delivery (ECO 2.3)\nPlanning and managing project compliance (ECO 3.2\n\n Lesson 4 Building the Project Management Plan—Integration\, Resources\, and Finance \n\nDeveloping integrated project plan and planning delivery (ECO 2.1)\nPlanning and managing resources (ECO 2.4)\nPlanning and managing finance (ECO 2.6)\n\n Lesson 5 Procurement\, Quality\, and Scheduling \n\nPlanning and managing procurement (ECO 2.5)\nPlanning and optimizing quality products / deliverables (ECO 2.7)\nPlanning and managing schedule (ECO 2.8)\n\n Lesson 6 Communicating and Transferring Knowledge \n\nHelping ensure knowledge transfer (ECO 1.7)\nPlanning and managing communication (ECO 1.8)\n\n Lesson 7 Leading and Empowering the Team \n\nManaging Conflicts (ECO 1.2)\nLeading the Project Team (ECO 1.3)\n\n Lesson 8 MANAGING RISKS\, CHANGES\, AND ISSUES \n\nPlanning and managing risk (ECO 3.5)\nManaging and controlling changes (ECO 3.3)\nRemoving impediments and managing issues (ECO 3.4)\n\n Lesson 9 Monitoring Progress and Maintaining Alignment  \n\nManaging stakeholder expectations (ECO 1.6)\nEvaluating project status (ECO 2.9)\n\n Lesson 10 Closing the Project Successfully \n\nManaging closures (ECO 2.10)\n\n Lesson 11 Driving Continuous Organizational Improvement \n\nContinuous Improvement (ECO 3.6)\nSupporting Organizational Change (ECO 3.7)\nEvaluating External Business Environment Changes (ECO 3.8)\n\n Lesson 12 Next Steps \n\nChecking Eligibility\nCompleting the Application\nPaying For and Scheduling the Exam\nExam Format\nQuestion Types\n\n  \n  \n 
URL:https://facilitatedmethods.com/event/pmp-aug-8-2026/
LOCATION:Virtual Instructor Led
CATEGORIES:PMP
END:VEVENT
BEGIN:VEVENT
DTSTART;VALUE=DATE:20260815
DTEND;VALUE=DATE:20260816
DTSTAMP:20260420T141416
CREATED:20251202T223737Z
LAST-MODIFIED:20251215T222202Z
UID:10002224-1786752000-1786838399@facilitatedmethods.com
SUMMARY:PMP Aug 8\,15\,22\,29 2026
DESCRIPTION:This course is held over four Saturdays:  August 8\, 15\, 22\, 29\, 2026 \n 9:00 am to 5:00 pm Pacific Time\n \nRegister Here \nThis PMI®-authorized course provides experienced project managers with the knowledge of concepts\, terminology and techniques that are addressed on the PMP® exam from Project Management Institute (PMI®). In addition to providing the 35 hours of specific instruction required to sit for the Project Management Professional (PMP) exam from PMI\, the course also provides access to online flash cards and test banks with questions from PMI. The current PMP exam is NOT based on the 8th edition of the PMBOK– but rather on the 2026 Exam Content Outline and multiple references including the Process Group: Practice Guide\, and the Agile Practice Guide from PMI. We are a Premier ATP and authorized PMP instructors and contributors to the 6th \, 7th\, and 8th editions of the PMBOK\, in addition to other PMI publications. We were key participants in the update of the April 2026  release of the PMP course materials and practice questions. \nCourse Format: Lecture with discussions and sample exams \nThis PMI®-authorized course provides experienced project managers with the knowledge of concepts\, terminology and techniques that are addressed on the PMP® exam from Project Management Institute (PMI®). In addition to providing the 35 hours of specific instruction required to sit for the Project Management Professional (PMP) exam from PMI\, the course also provides access to online flash cards and test banks with questions from PMI. The current PMP exam is NOT based on the 7th edition of the PMBOK– but rather on the 2021 Exam Content Outline and multiple references including the Process Group: Practice Guide\, and the Agile Practice Guide from PMI. We are a Premier ATP and authorized PMP instructors and contributors to the 6th and 7th edition of the PMBOK\, in addition to other PMI publications. We were key participants in the update of the June 2021 release of the PMP course materials and practice questions. \nCourse Format: Lecture with discussions\, sample exams and 7 test banks \nCourse Outline: \nIntroduction  \nThe official PMI PMP® Exam Prep Course-ware\, (release date April 2026)\, has been fully updated to reflect the latest exam blueprint. Designed to blend theory with practice\, the course guides learners through the essential domains of project management while integrating modern tools\, methodologies\, and exam strategies. \nProject Management Professional (PMP)® Exam Prep Course Agenda \nIntroduction \nLesson 1 Foundation \nLesson 2 Setting the Foundation \n\nDevelop a Common Vision (ECO 1.1)\nEngage Your Stakeholders (ECO 1.4)\nAlign Stakeholder Expectations (ECO 1.5)\nDefine and Establish Governance (ECO 3.1)\n\n Lesson 3 Defining Project Scope\, Value\, and Success Criteria \n\nDeveloping and managing project scope (ECO 2.2)\nEnsure value-based delivery (ECO 2.3)\nPlanning and managing project compliance (ECO 3.2)\n\n Lesson 4 Building the Project Management Plan—Integration\, Resources\, and Finance \n\nDeveloping integrated project plan and planning delivery (ECO 2.1)\nPlanning and managing resources (ECO 2.4)\nPlanning and managing finance (ECO 2.6)\n\n Lesson 5 Procurement\, Quality\, and Scheduling \n\nPlanning and managing procurement (ECO 2.5)\nPlanning and optimizing quality products / deliverables (ECO 2.7)\nPlanning and managing schedule (ECO 2.8)\n\n Lesson 6 Communicating and Transferring Knowledge \n\nHelping ensure knowledge transfer (ECO 1.7)\nPlanning and managing communication (ECO 1.8)\n\n  Lesson 7 Leading and Empowering the Team \n\nManaging Conflicts (ECO 1.2)\nLeading the Project Team (ECO 1.3)\n\n Lesson 8 MANAGING RISKS\, CHANGES\, AND ISSUES \n\nPlanning and managing risk (ECO 3.5)\nManaging and controlling changes (ECO 3.3)\nRemoving impediments and managing issues (ECO 3.4)\n\n Lesson 9 Monitoring Progress and Maintaining Alignment  \n\nManaging stakeholder expectations (ECO 1.6)\nEvaluating project status (ECO 2.9)\n\n Lesson 10 Closing the Project Successfully \n\nManaging closures (ECO 2.10)\n\n Lesson 11 Driving Continuous Organizational Improvement \n\nContinuous Improvement (ECO 3.6)\nSupporting Organizational Change (ECO 3.7)\nEvaluating External Business Environment Changes (ECO 3.8)\n\n Lesson 12 Next Steps \n\nChecking Eligibility\nCompleting the Application\nPaying For and Scheduling the Exam\nExam Format\nQuestion Types\n\n  \n 
URL:https://facilitatedmethods.com/event/pmp-aug-15-2026-2/
LOCATION:Virtual Instructor Led
CATEGORIES:PMP
END:VEVENT
BEGIN:VEVENT
DTSTART;VALUE=DATE:20260822
DTEND;VALUE=DATE:20260823
DTSTAMP:20260420T141416
CREATED:20251202T223919Z
LAST-MODIFIED:20251203T225108Z
UID:10002225-1787356800-1787443199@facilitatedmethods.com
SUMMARY:PMP Aug 8\,15\,22\,29 2026
DESCRIPTION:This course is held over four Saturdays:  August 8\, 15\, 22\, 29\, 2026 \n 9:00 am to 5:00 pm Pacific Time\n \nRegister Here \nThis PMI®-authorized course provides experienced project managers with the knowledge of concepts\, terminology and techniques that are addressed on the PMP® exam from Project Management Institute (PMI®). In addition to providing the 35 hours of specific instruction required to sit for the Project Management Professional (PMP) exam from PMI\, the course also provides access to online flash cards and test banks with questions from PMI. The current PMP exam is NOT based on the 7th edition of the PMBOK– but rather on the 2021 Exam Content Outline and multiple references including the Process Group: Practice Guide\, and the Agile Practice Guide from PMI. We are a Premier ATP and authorized PMP instructors and contributors to the 6th and 7th edition of the PMBOK\, in addition to other PMI publications. We were key participants in the update of the June 2021 release of the PMP course materials and practice questions. \nCourse Format: Lecture with discussions and sample exams \nThis PMI®-authorized course provides experienced project managers with the knowledge of concepts\, terminology and techniques that are addressed on the PMP® exam from Project Management Institute (PMI®). In addition to providing the 35 hours of specific instruction required to sit for the Project Management Professional (PMP) exam from PMI\, the course also provides access to online flash cards and test banks with questions from PMI. The current PMP exam is NOT based on the 7th edition of the PMBOK– but rather on the 2021 Exam Content Outline and multiple references including the Process Group: Practice Guide\, and the Agile Practice Guide from PMI. We are a Premier ATP and authorized PMP instructors and contributors to the 6th and 7th edition of the PMBOK\, in addition to other PMI publications. We were key participants in the update of the June 2021 release of the PMP course materials and practice questions. \nCourse Format: Lecture with discussions\, sample exams and 7 test banks \nCourse Outline: \nIntroduction  \nThe official PMI PMP® Exam Prep Course-ware\, (release date April 2026)\, has been fully updated to reflect the latest exam blueprint. Designed to blend theory with practice\, the course guides learners through the essential domains of project management while integrating modern tools\, methodologies\, and exam strategies. \n\nTable of Contents\n1. Course Introduction\n• Welcome & Learning Objectives\n• Navigating the PMP Certification Pathway\n• Overview of 2026 Exam Updates\n2. Foundations of Project Management\n• The Evolving Role of the Project Manager\n• The PMI Talent Triangle: Leadership\, Technical\, Strategic Skills\n• Ethics\, Integrity\, and Professional Conduct \n3. Domain I: People\n• Building and Leading High-Performing Teams\n• Conflict Resolution and Negotiation Techniques\n• Stakeholder Engagement & Effective Communication\n• Leadership Styles and Emotional Intelligence in Practice \n4. Domain II: Process\n• Applying Predictive\, Agile\, and Hybrid Approaches\n• Scope\, Schedule\, and Cost Management Essentials\n• Quality Assurance\, Risk Mitigation\, and Procurement Strategies\n• Integration & Change Management Frameworks\n• Leveraging Tools and Techniques (AI\, Digital Collaboration Platforms) \n5. Domain III: Business Environment\n• Strategic Alignment & Benefits Realization\n• Governance\, Compliance\, and Organizational Standards\n• Sustainability and Social Responsibility in Projects\n• Navigating External Business Influences \n6. Exam Preparation Modules\n• Scenario-Based Practice Questions\n• Case Studies & Real-World Simulations\n• PMI Study Hall® Integration for Adaptive Learning\n• Mock Exams with Detailed Feedback \n7. Course Wrap-Up\n• Comprehensive Review & Key Takeaways\n• Continuing Certification Requirements (CCR)\n• Next Steps: Application Guidance & Exam Registration\n\n 
URL:https://facilitatedmethods.com/event/pmp-aug-8152229-2026/
LOCATION:Virtual Instructor Led
CATEGORIES:PMP
END:VEVENT
BEGIN:VEVENT
DTSTART;VALUE=DATE:20260829
DTEND;VALUE=DATE:20260830
DTSTAMP:20260420T141416
CREATED:20251202T224126Z
LAST-MODIFIED:20251203T225026Z
UID:10002226-1787961600-1788047999@facilitatedmethods.com
SUMMARY:PMP Aug 8\,15\,22\,29 2026
DESCRIPTION:This course is held over four Saturdays:  August 8\, 15\, 22\, 29\, 2026 \n 9:00 am to 5:00 pm Pacific Time\n \nRegister Here \nThis PMI®-authorized course provides experienced project managers with the knowledge of concepts\, terminology and techniques that are addressed on the PMP® exam from Project Management Institute (PMI®). In addition to providing the 35 hours of specific instruction required to sit for the Project Management Professional (PMP) exam from PMI\, the course also provides access to online flash cards and test banks with questions from PMI. The current PMP exam is NOT based on the 7th edition of the PMBOK– but rather on the 2021 Exam Content Outline and multiple references including the Process Group: Practice Guide\, and the Agile Practice Guide from PMI. We are a Premier ATP and authorized PMP instructors and contributors to the 6th and 7th edition of the PMBOK\, in addition to other PMI publications. We were key participants in the update of the June 2021 release of the PMP course materials and practice questions. \nCourse Format: Lecture with discussions and sample exams \nThis PMI®-authorized course provides experienced project managers with the knowledge of concepts\, terminology and techniques that are addressed on the PMP® exam from Project Management Institute (PMI®). In addition to providing the 35 hours of specific instruction required to sit for the Project Management Professional (PMP) exam from PMI\, the course also provides access to online flash cards and test banks with questions from PMI. The current PMP exam is NOT based on the 7th edition of the PMBOK– but rather on the 2021 Exam Content Outline and multiple references including the Process Group: Practice Guide\, and the Agile Practice Guide from PMI. We are a Premier ATP and authorized PMP instructors and contributors to the 6th and 7th edition of the PMBOK\, in addition to other PMI publications. We were key participants in the update of the June 2021 release of the PMP course materials and practice questions. \nCourse Format: Lecture with discussions\, sample exams and 7 test banks \nCourse Outline: \nIntroduction  \nThe official PMI PMP® Exam Prep Course-ware\, (release date April 2026)\, has been fully updated to reflect the latest exam blueprint. Designed to blend theory with practice\, the course guides learners through the essential domains of project management while integrating modern tools\, methodologies\, and exam strategies. \n\nTable of Contents\n1. Course Introduction\n• Welcome & Learning Objectives\n• Navigating the PMP Certification Pathway\n• Overview of 2026 Exam Updates\n2. Foundations of Project Management\n• The Evolving Role of the Project Manager\n• The PMI Talent Triangle: Leadership\, Technical\, Strategic Skills\n• Ethics\, Integrity\, and Professional Conduct \n3. Domain I: People\n• Building and Leading High-Performing Teams\n• Conflict Resolution and Negotiation Techniques\n• Stakeholder Engagement & Effective Communication\n• Leadership Styles and Emotional Intelligence in Practice \n4. Domain II: Process\n• Applying Predictive\, Agile\, and Hybrid Approaches\n• Scope\, Schedule\, and Cost Management Essentials\n• Quality Assurance\, Risk Mitigation\, and Procurement Strategies\n• Integration & Change Management Frameworks\n• Leveraging Tools and Techniques (AI\, Digital Collaboration Platforms) \n5. Domain III: Business Environment\n• Strategic Alignment & Benefits Realization\n• Governance\, Compliance\, and Organizational Standards\n• Sustainability and Social Responsibility in Projects\n• Navigating External Business Influences \n6. Exam Preparation Modules\n• Scenario-Based Practice Questions\n• Case Studies & Real-World Simulations\n• PMI Study Hall® Integration for Adaptive Learning\n• Mock Exams with Detailed Feedback \n7. Course Wrap-Up\n• Comprehensive Review & Key Takeaways\n• Continuing Certification Requirements (CCR)\n• Next Steps: Application Guidance & Exam Registration\n\n 
URL:https://facilitatedmethods.com/event/pmp-aug-29-2026/
LOCATION:Virtual Instructor Led
CATEGORIES:PMP
END:VEVENT
END:VCALENDAR