BEGIN:VCALENDAR
VERSION:2.0
PRODID:-//Facilitated Methods - ECPv6.15.20//NONSGML v1.0//EN
CALSCALE:GREGORIAN
METHOD:PUBLISH
X-ORIGINAL-URL:https://facilitatedmethods.com
X-WR-CALDESC:Events for Facilitated Methods
REFRESH-INTERVAL;VALUE=DURATION:PT1H
X-Robots-Tag:noindex
X-PUBLISHED-TTL:PT1H
BEGIN:VTIMEZONE
TZID:America/Los_Angeles
BEGIN:DAYLIGHT
TZOFFSETFROM:-0800
TZOFFSETTO:-0700
TZNAME:PDT
DTSTART:20250309T100000
END:DAYLIGHT
BEGIN:STANDARD
TZOFFSETFROM:-0700
TZOFFSETTO:-0800
TZNAME:PST
DTSTART:20251102T090000
END:STANDARD
BEGIN:DAYLIGHT
TZOFFSETFROM:-0800
TZOFFSETTO:-0700
TZNAME:PDT
DTSTART:20260308T100000
END:DAYLIGHT
BEGIN:STANDARD
TZOFFSETFROM:-0700
TZOFFSETTO:-0800
TZNAME:PST
DTSTART:20261101T090000
END:STANDARD
BEGIN:DAYLIGHT
TZOFFSETFROM:-0800
TZOFFSETTO:-0700
TZNAME:PDT
DTSTART:20270314T100000
END:DAYLIGHT
BEGIN:STANDARD
TZOFFSETFROM:-0700
TZOFFSETTO:-0800
TZNAME:PST
DTSTART:20271107T090000
END:STANDARD
END:VTIMEZONE
BEGIN:VTIMEZONE
TZID:UTC
BEGIN:STANDARD
TZOFFSETFROM:+0000
TZOFFSETTO:+0000
TZNAME:UTC
DTSTART:20250101T000000
END:STANDARD
END:VTIMEZONE
BEGIN:VEVENT
DTSTART;VALUE=DATE:20260502
DTEND;VALUE=DATE:20260503
DTSTAMP:20260420T173058
CREATED:20251203T161331Z
LAST-MODIFIED:20251203T161444Z
UID:10002243-1777680000-1777766399@facilitatedmethods.com
SUMMARY:CAPM May 2\,9\,16\,23 2026
DESCRIPTION:CAPM® Certification Exam Prep Course\nMay 2\, 9\, 16\, 23\, 2026\n  \nScroll Down to Register – Registration closes May 2\, 2026 \nCourse Overview:\nThis comprehensive prep course is designed to equip aspiring project professionals with the foundational knowledge and practical tools needed to succeed in today’s dynamic project environments. Participants will deepen their understanding of current project management principles and terminology while gaining hands-on exposure to adaptive\, predictive\, and hybrid approaches.Whether you’re looking to enhance your current role or launch a new career\, earning the CAPM® certification highlights your commitment to excellence and positions you for entry and associate-level opportunities—such as project coordinator or junior project manager. \n Certification Scope:\nThe CAPM® exam evaluates knowledge across Project Management Fundamentals and Core Concepts\, including: \n\nPredictive\, plan-based methodologies\nAdaptive (Agile) frameworks\nBusiness Analysis principles\n\nThis course fulfills the 23 hours of professional instruction required by PMI® to sit for the CAPM® exam. \n Important Note:\nThe CAPM® exam is based on the 2023 Exam Content Outline and includes multiple reference sources such as: \n\nPMBOK® Guide (6th and 7th Editions)\nAgile Practice Guide\nBusiness Analysis for Practitioners: A Practice Guide\n\nFollowing 36 months of project leadership experience\, CAPM® holders can pursue the PMP® certification to further advance their careers. \nCAPM Course Content\nCAPM Certification and Introduction\nProject Management Fundamentals\n               Foundation Concepts\nProject Management Challenges\nOrganizational Project Management (OPM)\nProject Environment\nRoles and Responsibilities\n               Stakeholders\n               Project Sponsor\n               Project Manager\n               Leadership\n               Motivational Theories/Approaches\n               Project Team\nDevelopment Approaches and Life Cycles\n               Project Development Approaches\n               Predictive Approach\n               Adaptive Approach\n               Hybrid Approach\n               Life Cycles\n               Predictive Life Cycle\n               Adaptive Life Cycle\n               Project Management Processes\n               Process Groups\nBusiness Analysis Frameworks\n               Business Analysis\n               Business Analyst (BA) Role\n               Requirements\n               Project Approach Influence\n               Stakeholder Collaboration\nStart the Project\n               Needs Assessment\n               Business Documents\n               Project Initiation\n               Project Charter\n               Project Stakeholders\n               Stakeholder Communication\n               Tailor the Project Approach\nPredictive\, Plan-Based Project Methodology\n               Project Management Plan\n               Project Management Plan – Scope\n               Project Management Plan – Schedule\n               Project Management Plan – Resources\n               Estimating Techniques – Time and Cost\n               Project Management Plan – Costs and Budget\n               Project Management Plan – Quality\n               Project Management Plan – Uncertainty and Risk\n               Project Integration\nAdaptive Approaches\n               Adaptive Approaches or Frameworks\n               Adaptive Fundamentals\n               Adaptive Team Resources\n               Adaptive Planning\n               Agile Requirements\n               Adaptive Prioritizing and Estimating\nProject Work and Delivery\n               Engaging Stakeholders\n               Monitoring and Controlling Processes\n               Detecting and Solving Problems\n               Measuring Performance\n               Project Controls and Forecasting\n               Validating Requirements\n               Transitioning and Closing
URL:https://facilitatedmethods.com/event/capm-may-2/
LOCATION:Virtual Instructor Led
CATEGORIES:CAPM
END:VEVENT
BEGIN:VEVENT
DTSTART;VALUE=DATE:20260509
DTEND;VALUE=DATE:20260510
DTSTAMP:20260420T173058
CREATED:20251203T161924Z
LAST-MODIFIED:20251203T161924Z
UID:10002244-1778284800-1778371199@facilitatedmethods.com
SUMMARY:CAPM May 2\,9\,16\,23 2026
DESCRIPTION:CAPM® Certification Exam Prep Course\nMay 2\, 9\, 16\, 23\, 2026\n  \n Register Here – Registration closes May 2\, 2026 \nCourse Overview:\nThis comprehensive prep course is designed to equip aspiring project professionals with the foundational knowledge and practical tools needed to succeed in today’s dynamic project environments. Participants will deepen their understanding of current project management principles and terminology while gaining hands-on exposure to adaptive\, predictive\, and hybrid approaches.Whether you’re looking to enhance your current role or launch a new career\, earning the CAPM® certification highlights your commitment to excellence and positions you for entry and associate-level opportunities—such as project coordinator or junior project manager. \n Certification Scope:\nThe CAPM® exam evaluates knowledge across Project Management Fundamentals and Core Concepts\, including: \n\nPredictive\, plan-based methodologies\nAdaptive (Agile) frameworks\nBusiness Analysis principles\n\nThis course fulfills the 23 hours of professional instruction required by PMI® to sit for the CAPM® exam. \n Important Note:\nThe CAPM® exam is based on the 2023 Exam Content Outline and includes multiple reference sources such as: \n\nPMBOK® Guide (6th and 7th Editions)\nAgile Practice Guide\nBusiness Analysis for Practitioners: A Practice Guide\n\nFollowing 36 months of project leadership experience\, CAPM® holders can pursue the PMP® certification to further advance their careers. \nCAPM Course Content\nCAPM Certification and Introduction\nProject Management Fundamentals\n               Foundation Concepts\nProject Management Challenges\nOrganizational Project Management (OPM)\nProject Environment\nRoles and Responsibilities\n               Stakeholders\n               Project Sponsor\n               Project Manager\n               Leadership\n               Motivational Theories/Approaches\n               Project Team\nDevelopment Approaches and Life Cycles\n               Project Development Approaches\n               Predictive Approach\n               Adaptive Approach\n               Hybrid Approach\n               Life Cycles\n               Predictive Life Cycle\n               Adaptive Life Cycle\n               Project Management Processes\n               Process Groups\nBusiness Analysis Frameworks\n               Business Analysis\n               Business Analyst (BA) Role\n               Requirements\n               Project Approach Influence\n               Stakeholder Collaboration\nStart the Project\n               Needs Assessment\n               Business Documents\n               Project Initiation\n               Project Charter\n               Project Stakeholders\n               Stakeholder Communication\n               Tailor the Project Approach\nPredictive\, Plan-Based Project Methodology\n               Project Management Plan\n               Project Management Plan – Scope\n               Project Management Plan – Schedule\n               Project Management Plan – Resources\n               Estimating Techniques – Time and Cost\n               Project Management Plan – Costs and Budget\n               Project Management Plan – Quality\n               Project Management Plan – Uncertainty and Risk\n               Project Integration\nAdaptive Approaches\n               Adaptive Approaches or Frameworks\n               Adaptive Fundamentals\n               Adaptive Team Resources\n               Adaptive Planning\n               Agile Requirements\n               Adaptive Prioritizing and Estimating\nProject Work and Delivery\n               Engaging Stakeholders\n               Monitoring and Controlling Processes\n               Detecting and Solving Problems\n               Measuring Performance\n               Project Controls and Forecasting\n               Validating Requirements\n               Transitioning and Closing
URL:https://facilitatedmethods.com/event/capm-may-291623-2026/
LOCATION:Virtual Instructor Led
CATEGORIES:CAPM
END:VEVENT
BEGIN:VEVENT
DTSTART;VALUE=DATE:20260516
DTEND;VALUE=DATE:20260517
DTSTAMP:20260420T173058
CREATED:20251203T162045Z
LAST-MODIFIED:20251203T162045Z
UID:10002245-1778889600-1778975999@facilitatedmethods.com
SUMMARY:CAPM May 2\,9\,16\,23 2026
DESCRIPTION:CAPM® Certification Exam Prep Course\nMay 2\, 9\, 16\, 23\, 2026\n  \n Register Here – Registration closes May 2\, 2026 \nCourse Overview:\nThis comprehensive prep course is designed to equip aspiring project professionals with the foundational knowledge and practical tools needed to succeed in today’s dynamic project environments. Participants will deepen their understanding of current project management principles and terminology while gaining hands-on exposure to adaptive\, predictive\, and hybrid approaches.Whether you’re looking to enhance your current role or launch a new career\, earning the CAPM® certification highlights your commitment to excellence and positions you for entry and associate-level opportunities—such as project coordinator or junior project manager. \n Certification Scope:\nThe CAPM® exam evaluates knowledge across Project Management Fundamentals and Core Concepts\, including: \n\nPredictive\, plan-based methodologies\nAdaptive (Agile) frameworks\nBusiness Analysis principles\n\nThis course fulfills the 23 hours of professional instruction required by PMI® to sit for the CAPM® exam. \n Important Note:\nThe CAPM® exam is based on the 2023 Exam Content Outline and includes multiple reference sources such as: \n\nPMBOK® Guide (6th and 7th Editions)\nAgile Practice Guide\nBusiness Analysis for Practitioners: A Practice Guide\n\nFollowing 36 months of project leadership experience\, CAPM® holders can pursue the PMP® certification to further advance their careers. \nCAPM Course Content\nCAPM Certification and Introduction\nProject Management Fundamentals\n               Foundation Concepts\nProject Management Challenges\nOrganizational Project Management (OPM)\nProject Environment\nRoles and Responsibilities\n               Stakeholders\n               Project Sponsor\n               Project Manager\n               Leadership\n               Motivational Theories/Approaches\n               Project Team\nDevelopment Approaches and Life Cycles\n               Project Development Approaches\n               Predictive Approach\n               Adaptive Approach\n               Hybrid Approach\n               Life Cycles\n               Predictive Life Cycle\n               Adaptive Life Cycle\n               Project Management Processes\n               Process Groups\nBusiness Analysis Frameworks\n               Business Analysis\n               Business Analyst (BA) Role\n               Requirements\n               Project Approach Influence\n               Stakeholder Collaboration\nStart the Project\n               Needs Assessment\n               Business Documents\n               Project Initiation\n               Project Charter\n               Project Stakeholders\n               Stakeholder Communication\n               Tailor the Project Approach\nPredictive\, Plan-Based Project Methodology\n               Project Management Plan\n               Project Management Plan – Scope\n               Project Management Plan – Schedule\n               Project Management Plan – Resources\n               Estimating Techniques – Time and Cost\n               Project Management Plan – Costs and Budget\n               Project Management Plan – Quality\n               Project Management Plan – Uncertainty and Risk\n               Project Integration\nAdaptive Approaches\n               Adaptive Approaches or Frameworks\n               Adaptive Fundamentals\n               Adaptive Team Resources\n               Adaptive Planning\n               Agile Requirements\n               Adaptive Prioritizing and Estimating\nProject Work and Delivery\n               Engaging Stakeholders\n               Monitoring and Controlling Processes\n               Detecting and Solving Problems\n               Measuring Performance\n               Project Controls and Forecasting\n               Validating Requirements\n               Transitioning and Closing
URL:https://facilitatedmethods.com/event/capm-may-291623-2026-2/
LOCATION:Virtual Instructor Led
CATEGORIES:CAPM
END:VEVENT
BEGIN:VEVENT
DTSTART;VALUE=DATE:20260523
DTEND;VALUE=DATE:20260524
DTSTAMP:20260420T173058
CREATED:20251203T162211Z
LAST-MODIFIED:20251203T162211Z
UID:10002246-1779494400-1779580799@facilitatedmethods.com
SUMMARY:CAPM May 2\,9\,16\,23 2026
DESCRIPTION:CAPM® Certification Exam Prep Course\nMay 2\, 9\, 16\, 23\, 2026\n  \n Register Here – Registration closes May 2\, 2026 \nCourse Overview:\nThis comprehensive prep course is designed to equip aspiring project professionals with the foundational knowledge and practical tools needed to succeed in today’s dynamic project environments. Participants will deepen their understanding of current project management principles and terminology while gaining hands-on exposure to adaptive\, predictive\, and hybrid approaches.Whether you’re looking to enhance your current role or launch a new career\, earning the CAPM® certification highlights your commitment to excellence and positions you for entry and associate-level opportunities—such as project coordinator or junior project manager. \n Certification Scope:\nThe CAPM® exam evaluates knowledge across Project Management Fundamentals and Core Concepts\, including: \n\nPredictive\, plan-based methodologies\nAdaptive (Agile) frameworks\nBusiness Analysis principles\n\nThis course fulfills the 23 hours of professional instruction required by PMI® to sit for the CAPM® exam. \n Important Note:\nThe CAPM® exam is based on the 2023 Exam Content Outline and includes multiple reference sources such as: \n\nPMBOK® Guide (6th and 7th Editions)\nAgile Practice Guide\nBusiness Analysis for Practitioners: A Practice Guide\n\nFollowing 36 months of project leadership experience\, CAPM® holders can pursue the PMP® certification to further advance their careers. \nCAPM Course Content\nCAPM Certification and Introduction\nProject Management Fundamentals\n               Foundation Concepts\nProject Management Challenges\nOrganizational Project Management (OPM)\nProject Environment\nRoles and Responsibilities\n               Stakeholders\n               Project Sponsor\n               Project Manager\n               Leadership\n               Motivational Theories/Approaches\n               Project Team\nDevelopment Approaches and Life Cycles\n               Project Development Approaches\n               Predictive Approach\n               Adaptive Approach\n               Hybrid Approach\n               Life Cycles\n               Predictive Life Cycle\n               Adaptive Life Cycle\n               Project Management Processes\n               Process Groups\nBusiness Analysis Frameworks\n               Business Analysis\n               Business Analyst (BA) Role\n               Requirements\n               Project Approach Influence\n               Stakeholder Collaboration\nStart the Project\n               Needs Assessment\n               Business Documents\n               Project Initiation\n               Project Charter\n               Project Stakeholders\n               Stakeholder Communication\n               Tailor the Project Approach\nPredictive\, Plan-Based Project Methodology\n               Project Management Plan\n               Project Management Plan – Scope\n               Project Management Plan – Schedule\n               Project Management Plan – Resources\n               Estimating Techniques – Time and Cost\n               Project Management Plan – Costs and Budget\n               Project Management Plan – Quality\n               Project Management Plan – Uncertainty and Risk\n               Project Integration\nAdaptive Approaches\n               Adaptive Approaches or Frameworks\n               Adaptive Fundamentals\n               Adaptive Team Resources\n               Adaptive Planning\n               Agile Requirements\n               Adaptive Prioritizing and Estimating\nProject Work and Delivery\n               Engaging Stakeholders\n               Monitoring and Controlling Processes\n               Detecting and Solving Problems\n               Measuring Performance\n               Project Controls and Forecasting\n               Validating Requirements\n               Transitioning and Closing
URL:https://facilitatedmethods.com/event/capm-may-291623-2026-3/
LOCATION:Virtual Instructor Led
CATEGORIES:CAPM
END:VEVENT
BEGIN:VEVENT
DTSTART;VALUE=DATE:20260526
DTEND;VALUE=DATE:20260529
DTSTAMP:20260420T173058
CREATED:20250428T181216Z
LAST-MODIFIED:20260115T223411Z
UID:10001940-1779753600-1780012799@facilitatedmethods.com
SUMMARY:PgMP May 26-28 2026
DESCRIPTION:Program Management Professional (PgMP®)\nCertification Prep Course\n9:00 am to 5:00 pm Pacific Time \nDescription:\nThis course provides experienced program managers with the knowledge of concepts\,\nterminology\, and techniques addressed on the PgMP exam from Project Management Institute\n(PMI). This course is based on the current 2011 Program Management Exam Content Outline.\nThis course is intended for senior project and program managers who have experience managing\nprograms with multiple project components. It is based on the current PMI 4th edition of the\nStandard for Program Management.\nWe are a Premier ATP and authorized ATP instructors and contributors to the 4th edition of the\nProgram Standard\, in addition to other PMI publications. \nCourse Format: Lecture with discussions\, and exercises\nLength of Course: 2 days\nCourse Outline: \n\nIntroduction to Program Management\nStrategic Program Management\nStakeholder Management\nBenefits Management\nGovernance\nProgram Life Cycle\n\nRecommended prerequisites: Attendees should understand and meet the experience\nrequirements for the PMI-PgMP® certification application
URL:https://facilitatedmethods.com/event/pgmp-sept-29/
LOCATION:Virtual Instructor Led
CATEGORIES:PgMP
END:VEVENT
END:VCALENDAR