BEGIN:VCALENDAR
VERSION:2.0
PRODID:-//Facilitated Methods - ECPv6.15.20//NONSGML v1.0//EN
CALSCALE:GREGORIAN
METHOD:PUBLISH
X-ORIGINAL-URL:https://facilitatedmethods.com
X-WR-CALDESC:Events for Facilitated Methods
REFRESH-INTERVAL;VALUE=DURATION:PT1H
X-Robots-Tag:noindex
X-PUBLISHED-TTL:PT1H
BEGIN:VTIMEZONE
TZID:UTC
BEGIN:STANDARD
TZOFFSETFROM:+0000
TZOFFSETTO:+0000
TZNAME:UTC
DTSTART:20240101T000000
END:STANDARD
END:VTIMEZONE
BEGIN:VEVENT
DTSTART;VALUE=DATE:20250721
DTEND;VALUE=DATE:20250723
DTSTAMP:20260421T122647
CREATED:20250428T200546Z
LAST-MODIFIED:20250428T200546Z
UID:10001944-1753056000-1753228799@facilitatedmethods.com
SUMMARY:Effective Leadership Skills for Project Managers
DESCRIPTION:Effective Leadership Skills for Project Managers \n9:00 am to 5:00 pm Pacific Time\n \nScroll down to register \nCourse Overview: This intensive 2-day course is designed to equip project managers with the essential leadership skills needed to effectively lead teams and manage projects. Participants will learn how to inspire and motivate their teams\, communicate effectively\, and navigate the complexities of project management with confidence and competence. \nCourse Objectives: \n\nUnderstand the key principles of effective leadership and how they apply to project management.\nDevelop strategies for motivating and inspiring team members to achieve project goals.\nEnhance communication skills to ensure clear and effective interactions with stakeholders.\nLearn techniques for managing conflicts and resolving issues within the team.\nGain insights into decision-making processes and how to make informed choices under pressure.\nExplore methods for fostering a collaborative and productive team environment.\n\nTarget Audience: This course is ideal for project managers\, team leaders\, and anyone involved in managing projects who wants to enhance their leadership skills and drive successful project outcomes. \nCourse Outline: \nDay 1: \n\nIntroduction to Leadership in Project Management\nKey Leadership Traits\, Behaviors and Styles\nBuilding and Leading High-Performing Teams\nMotivating and Inspiring Teams\nEmotional intelligence and its role in effective leadership.\n\nDay 2: \n\nFostering Collaboration and Teamwork\nEffective Communication Strategies\nDecision-Making and Problem-Solving\nConflict Management and Resolution\nManaging Change and Uncertainty\n\nLearning Methodology: The course will be delivered through a combination of interactive lectures\, group discussions\, and hands-on exercises. Participants will have the opportunity to apply the concepts learned in practical scenarios and receive feedback from experienced instructors. \nIn summary\, this course aims to develop project managers into effective leaders who can inspire and guide their teams towards achieving project objectives. By understanding and applying various leadership styles\, participants will be better equipped to handle diverse project challenges and lead their teams to success. The course emphasizes the importance of emotional intelligence and effective communication in building strong\, cohesive teams. Participants will leave with actionable insights and skills to enhance their leadership capabilities and drive project success. \n 
URL:https://facilitatedmethods.com/event/elspm-jul21/
LOCATION:Virtual Instructor Led
CATEGORIES:Leadership
END:VEVENT
END:VCALENDAR